BEGIN:VCALENDAR
VERSION:2.0
PRODID:-//Library Market//iCal Export//EN
BEGIN:VEVENT
SUMMARY:Lyme Connection: Tick-Borne Diseases: A State of Affairs
UID:138843
DTSTAMP:20260423T060700Z
DTSTART:20260528T223000Z
DTEND:20260529T003000Z
LOCATION:472 Main Street, Ridgefield , CT 06877, United States
ROOM: Main Program Room
DESCRIPTION:Please join Lyme Connection for a look at the complexities of 
 tick-borne disease, from diagnostic hurdles to medical denial and the link
 s of these diseases to serious neuropsychiatric conditions.Featured speake
 rs:Mary Beth Pfeiffer, investigative journalist and author of &quot;Pitfal
 ls and Progress in the Continuing War on Chronic Lyme Disease&quot;Nancy O
 &#039;Hara, MD, MPH, FAAP; Board certified Pediatrician and author of &quo
 t;Demystifying the 3Bs: How Vector Borne Diseases Affect Mental Health.&qu
 ot;Please register below.
URL:https://ridgefieldlibrary.librarymarket.com/event/lyme-panel-138843
END:VEVENT
END:VCALENDAR
