BEGIN:VCALENDAR
VERSION:2.0
PRODID:-//Library Market//iCal Export//EN
BEGIN:VEVENT
SUMMARY:Spanish Learn &amp; Play
UID:143557
DTSTAMP:20260421T213200Z
DTSTART:20260531T183000Z
DTEND:20260531T191500Z
LOCATION:472 Main Street, Ridgefield , CT 06877, United States
ROOM: Leir Children’s Program Room
DESCRIPTION:Children in Grades K-2 and their caregivers are invited to lea
 rn some beginning Spanish with song, play, activities and stories. Ms. Och
 oa, who is a Kindergarten teacher from Mexico, will lead families in an en
 gaging language program to encourage and promote learning a second languag
 e. Registration is required and opens on April 30, 2026.Programs like this
  are made possible in part by the generosity of our donors. 
URL:https://ridgefieldlibrary.librarymarket.com/index.php/event/spanish-le
 arn-play-143557
END:VEVENT
END:VCALENDAR
