BEGIN:VCALENDAR
VERSION:2.0
PRODID:-//Library Market//iCal Export//EN
BEGIN:VEVENT
SUMMARY:Air Dry Clay Flowers
UID:143554
DTSTAMP:20260423T071500Z
DTSTART:20260501T140000Z
DTEND:20260501T150000Z
LOCATION:472 Main Street, Ridgefield , CT 06877, United States
ROOM: Donofrio Family Technology Center
DESCRIPTION:Join us for a workshop to learn how to create your very own ai
 r dry clay flowers. All materials will be provided. This program is funde
 d by the Lewis Fund and the Friends of the Ridgefield Library
URL:https://ridgefieldlibrary.librarymarket.com/index.php/event/air-dry-cl
 ay-flowers-143554
END:VEVENT
END:VCALENDAR
